BEGIN:VCALENDAR
VERSION:2.0
PRODID:-//Jugendmusikschule Hagen a.T.W. - ECPv6.15.20//NONSGML v1.0//EN
CALSCALE:GREGORIAN
METHOD:PUBLISH
X-WR-CALNAME:Jugendmusikschule Hagen a.T.W.
X-ORIGINAL-URL:https://jms-hagen-atw.de
X-WR-CALDESC:Veranstaltungen für Jugendmusikschule Hagen a.T.W.
REFRESH-INTERVAL;VALUE=DURATION:PT1H
X-Robots-Tag:noindex
X-PUBLISHED-TTL:PT1H
BEGIN:VTIMEZONE
TZID:Europe/Berlin
BEGIN:DAYLIGHT
TZOFFSETFROM:+0100
TZOFFSETTO:+0200
TZNAME:CEST
DTSTART:20250330T010000
END:DAYLIGHT
BEGIN:STANDARD
TZOFFSETFROM:+0200
TZOFFSETTO:+0100
TZNAME:CET
DTSTART:20251026T010000
END:STANDARD
BEGIN:DAYLIGHT
TZOFFSETFROM:+0100
TZOFFSETTO:+0200
TZNAME:CEST
DTSTART:20260329T010000
END:DAYLIGHT
BEGIN:STANDARD
TZOFFSETFROM:+0200
TZOFFSETTO:+0100
TZNAME:CET
DTSTART:20261025T010000
END:STANDARD
BEGIN:DAYLIGHT
TZOFFSETFROM:+0100
TZOFFSETTO:+0200
TZNAME:CEST
DTSTART:20270328T010000
END:DAYLIGHT
BEGIN:STANDARD
TZOFFSETFROM:+0200
TZOFFSETTO:+0100
TZNAME:CET
DTSTART:20271031T010000
END:STANDARD
END:VTIMEZONE
BEGIN:VEVENT
DTSTART;TZID=Europe/Berlin:20260425T100000
DTEND;TZID=Europe/Berlin:20260425T100000
DTSTAMP:20260422T120043
CREATED:20260213T092102Z
LAST-MODIFIED:20260213T092222Z
UID:2351-1777111200-1777111200@jms-hagen-atw.de
SUMMARY:Frühling im Ohr (Konzerte der Elementarklassen)
DESCRIPTION:Die Schülerinnen und Schüler des Elementarbereichs der Jugendmusikschule Hagen a.T.W. – Musikalische Früherziehung\, Musikalischer Grundkurs sowie Blockflöte 1 und 2 – unter der Leitung von Ruth Witte\, Christine Altevogt und Joline Brand laden herzlich ein zum Konzert „Frühling im Ohr“. \nDie Konzerte finden am Samstag\, 25. April 2026\, in der Ehemaligen Kirche Hagen a.T.W. statt.\nDa über 300 Kinder mitwirken\, wird das Programm in drei Aufführungen präsentiert: um 10:00 Uhr\, 11:30 Uhr und 13:00 Uhr. \nDer Eintritt ist frei.
URL:https://jms-hagen-atw.de/veranstaltung/fruehling-im-ohr-konzerte-der-elementarklassen/
LOCATION:Ehemalige Kirche Hagen a.T.W.\, Martinistraße 4\, Hagen a.T.W.\, 49170\, Germany
CATEGORIES:Konzert
END:VEVENT
BEGIN:VEVENT
DTSTART;TZID=Europe/Berlin:20260503T110000
DTEND;TZID=Europe/Berlin:20260503T180000
DTSTAMP:20260422T120043
CREATED:20260421T080241Z
LAST-MODIFIED:20260421T080241Z
UID:2581-1777806000-1777831200@jms-hagen-atw.de
SUMMARY:Die JMS beim Kirschblütenmarkt 2026
DESCRIPTION:
URL:https://www.hagen-atw.de/Startseite.htm/Aktuelles/Hagener-Kirschbluetenmarkt-03-05-2026.html?#new_tab
LOCATION:Ortskern Hagen a.T.W.
END:VEVENT
BEGIN:VEVENT
DTSTART;TZID=Europe/Berlin:20260508T190000
DTEND;TZID=Europe/Berlin:20260508T203000
DTSTAMP:20260422T120043
CREATED:20260308T125113Z
LAST-MODIFIED:20260308T125113Z
UID:2441-1778266800-1778272200@jms-hagen-atw.de
SUMMARY:Die JMS beim Kirschblütentreffen 2026
DESCRIPTION:Die Jugendmusikschule begleitet das Kirschblütentreffen 2026 der Gemeinde Hagen a.T.W. musikalisch.
URL:https://jms-hagen-atw.de/veranstaltung/die-jms-beim-kirschbluetentreffen-2026/
LOCATION:Bürgerhaus Natrup-Hagen\, Theodor-Heuß-Straße 19\, Hagen a.T.W.\, 49170\, Germany
END:VEVENT
BEGIN:VEVENT
DTSTART;VALUE=DATE:20260513
DTEND;VALUE=DATE:20260514
DTSTAMP:20260422T120043
CREATED:20251203T062040Z
LAST-MODIFIED:20260421T075742Z
UID:1745-1778630400-1778716799@jms-hagen-atw.de
SUMMARY:Die JMS auf der Maiwoche Osnabrück
DESCRIPTION:Weitere Infos folgen…
URL:https://erleben.osnabrueck.de/de/stadt-erleben/city-events/maiwoche/orchester-and-band-der-oberschule-und-jugendmusikschule-hagen-a-t-w/#new_tab
LOCATION:Maiwoche Osnabrück
CATEGORIES:Konzert
END:VEVENT
BEGIN:VEVENT
DTSTART;TZID=Europe/Berlin:20260529T190000
DTEND;TZID=Europe/Berlin:20260529T203000
DTSTAMP:20260422T120043
CREATED:20260308T125929Z
LAST-MODIFIED:20260308T125929Z
UID:2445-1780081200-1780086600@jms-hagen-atw.de
SUMMARY:Die JMS beim Festakt zum 100-jährigen Jubiläum der Feuerwehr Hagen a.T.W.
DESCRIPTION:
URL:https://jms-hagen-atw.de/veranstaltung/die-jms-beim-festakt-zum-100-jaehrigen-jubilaeum-der-feuerwehr-hagen-a-t-w/
LOCATION:Ehemalige Kirche Hagen a.T.W.\, Martinistraße 4\, Hagen a.T.W.\, 49170\, Germany
END:VEVENT
BEGIN:VEVENT
DTSTART;TZID=Europe/Berlin:20260607T110000
DTEND;TZID=Europe/Berlin:20260607T120000
DTSTAMP:20260422T120043
CREATED:20260308T084906Z
LAST-MODIFIED:20260308T084906Z
UID:2436-1780830000-1780833600@jms-hagen-atw.de
SUMMARY:Klassenvorspiel der Klavierklasse von Lilli Bäumler
DESCRIPTION:
URL:https://jms-hagen-atw.de/veranstaltung/klassenvorspiel-der-klavierklasse-von-lilli-baeumler/
LOCATION:Altes Pfarrhaus Hagen a.T.W.\, Martinistraße 9\, Hagen a.T.W.\, 49170\, Germany
END:VEVENT
BEGIN:VEVENT
DTSTART;TZID=Europe/Berlin:20260612T170000
DTEND;TZID=Europe/Berlin:20260612T210000
DTSTAMP:20260422T120044
CREATED:20260421T080829Z
LAST-MODIFIED:20260421T080918Z
UID:2584-1781283600-1781298000@jms-hagen-atw.de
SUMMARY:Jahresabschlusskonzert der Oberschule Hagen a.T.W. in Kooperation mit der JMS
DESCRIPTION:Weitere Infos folgen…
URL:https://jms-hagen-atw.de/veranstaltung/jahresabschlusskonzert-der-oberschule-hagen-a-t-w-in-kooperation-mit-der-jms/
LOCATION:Aula der Oberschule Hagen a.T.W.\, Schopmeyerstr. 20\, Hagen a.T.W.\, 49170\, Germany
END:VEVENT
BEGIN:VEVENT
DTSTART;TZID=Europe/Berlin:20260626T170000
DTEND;TZID=Europe/Berlin:20260626T180000
DTSTAMP:20260422T120044
CREATED:20260417T035240Z
LAST-MODIFIED:20260417T035240Z
UID:2554-1782493200-1782496800@jms-hagen-atw.de
SUMMARY:Klassenvorspiel der Saxophonklasse von Caroline Schulze
DESCRIPTION:
URL:https://jms-hagen-atw.de/veranstaltung/klassenvorspiel-der-saxophonklasse-von-caroline-schulze/
LOCATION:Altes Pfarrhaus Hagen a.T.W.\, Martinistraße 9\, Hagen a.T.W.\, 49170\, Germany
CATEGORIES:Klassenkonzert
END:VEVENT
BEGIN:VEVENT
DTSTART;TZID=Europe/Berlin:20261101T170000
DTEND;TZID=Europe/Berlin:20261101T180000
DTSTAMP:20260422T120044
CREATED:20251203T061412Z
LAST-MODIFIED:20260205T050226Z
UID:1739-1793552400-1793556000@jms-hagen-atw.de
SUMMARY:Herbstkonzert der Instrumental- und Vokalstufe
DESCRIPTION:Der Herbst bringt nicht nur bunte Blätter – sondern auch eines unserer musikalischen Highlights: das Herbstkonzert der Jugendmusikschule Hagen a.T.W. \nIn rund 60 Minuten erleben Sie\, wie viel Klang\, Energie und Teamgeist in unserer Musikschule steckt. Auf der Bühne stehen vor allem unsere Ensembles und Bands\, die gemeinsam ein vielseitiges Programm gestalten. Ergänzt wird das Konzert durch fortgeschrittene Schülerinnen und Schüler aus dem Instrumental- und Vokalbereich\, die mit ausgewählten Beiträgen ihr Können präsentieren. \nFreuen Sie sich auf einen Abend voller musikalischer Kontraste – mal kraftvoll\, mal fein\, mal überraschend – aber immer live und mit echter Begeisterung. \nDer Eintritt ist kostenlos. Wir bitten Sie am Ausgang um eine kleine Spende\, um die Arbeit der JMS und zukünftige Projekte zu unterstützen. \nWir freuen uns auf Ihren Besuch!
URL:https://jms-hagen-atw.de/veranstaltung/herbstkonzert-der-instrumental-und-vokalstufe/
LOCATION:Ehemalige Kirche Hagen a.T.W.\, Martinistraße 4\, Hagen a.T.W.\, 49170\, Germany
CATEGORIES:Konzert
END:VEVENT
END:VCALENDAR